BEGIN:VCALENDAR
VERSION:2.0
PRODID:-//KAMI - ECPv6.15.20//NONSGML v1.0//EN
CALSCALE:GREGORIAN
METHOD:PUBLISH
X-ORIGINAL-URL:https://www.kami.events/web
X-WR-CALDESC:Veranstaltungen für KAMI
REFRESH-INTERVAL;VALUE=DURATION:PT1H
X-Robots-Tag:noindex
X-PUBLISHED-TTL:PT1H
BEGIN:VTIMEZONE
TZID:Europe/Berlin
BEGIN:DAYLIGHT
TZOFFSETFROM:+0100
TZOFFSETTO:+0200
TZNAME:CEST
DTSTART:20230326T010000
END:DAYLIGHT
BEGIN:STANDARD
TZOFFSETFROM:+0200
TZOFFSETTO:+0100
TZNAME:CET
DTSTART:20231029T010000
END:STANDARD
BEGIN:DAYLIGHT
TZOFFSETFROM:+0100
TZOFFSETTO:+0200
TZNAME:CEST
DTSTART:20240331T010000
END:DAYLIGHT
BEGIN:STANDARD
TZOFFSETFROM:+0200
TZOFFSETTO:+0100
TZNAME:CET
DTSTART:20241027T010000
END:STANDARD
BEGIN:DAYLIGHT
TZOFFSETFROM:+0100
TZOFFSETTO:+0200
TZNAME:CEST
DTSTART:20250330T010000
END:DAYLIGHT
BEGIN:STANDARD
TZOFFSETFROM:+0200
TZOFFSETTO:+0100
TZNAME:CET
DTSTART:20251026T010000
END:STANDARD
END:VTIMEZONE
BEGIN:VEVENT
DTSTART;TZID=Europe/Berlin:20241020T100000
DTEND;TZID=Europe/Berlin:20241020T180000
DTSTAMP:20260421T195254
CREATED:20250420T161139Z
LAST-MODIFIED:20260410T055755Z
UID:1259-1729418400-1729447200@www.kami.events
SUMMARY:Silent Reading Party mit großem Bücherflohmarkt
DESCRIPTION:Silent Reading Party mit großem Bücherflohmarkt\nDie „Silent Reading Party“ stammt aus den USA und wird dort in vielen Städten gefeiert. Sie bietet ein Gegenprogramm zu ständiger Erreichbarkeit und Reizüberflutung und schafft den Rahmen\, sich ohne große Ablenkung durch Alltagsverpflichtungen oder Mobiltelefone auf nur eine Sache zu konzentrieren: Das Lesen. Es ist auch der Versuch\, in einer hektisch digitalisierten Welt etwas Besonderes zu feiern und zu vereinen – die Stille und das Lesen. Demzufolge dürfte also unsere Veranstaltung die leiseste Party der ganzen Stadt werden! In unserem Hinterhof gibt es ausreichend Sitzgelegenheiten und bei schlechtem Wetter verlagern wir die Veranstaltung in die Ateliers. Als zusätzliches Highlight gibt es einen großen Bücherflohmarkt\, um sich mit neuem Lesestoff einzudecken. Auch für das leibliche Wohl wird bestens gesorgt sein. \nORT Rudolf 5 | Hinterhof | Rudolfstraße 5\nEINTRITT frei\nVERANSTALTER Rudolf 5
URL:https://www.kami.events/web/event/silent-reading-party-mit-grossem-buecherflohmarkt/
CATEGORIES:Silent Reading Party
ATTACH;FMTTYPE=image/jpeg:https://www.kami.events/web/wp-content/uploads/2025/04/silent-reading-party24-10.jpg
END:VEVENT
END:VCALENDAR